BEGIN:VCALENDAR
VERSION:2.0
PRODID:-//Flexovit - ECPv6.13.0//NONSGML v1.0//EN
CALSCALE:GREGORIAN
METHOD:PUBLISH
X-ORIGINAL-URL:https://www.flexovitabrasives.com
X-WR-CALDESC:Events for Flexovit
REFRESH-INTERVAL;VALUE=DURATION:PT1H
X-Robots-Tag:noindex
X-PUBLISHED-TTL:PT1H
BEGIN:VTIMEZONE
TZID:UTC
BEGIN:STANDARD
TZOFFSETFROM:+0000
TZOFFSETTO:+0000
TZNAME:UTC
DTSTART:20220101T000000
END:STANDARD
END:VTIMEZONE
BEGIN:VEVENT
DTSTART;VALUE=DATE:20220403
DTEND;VALUE=DATE:20220406
DTSTAMP:20260419T150042
CREATED:20211229T210302Z
LAST-MODIFIED:20220110T183403Z
UID:13867-1648944000-1649203199@www.flexovitabrasives.com
SUMMARY:GAWDA 2022 SPRING MANAGEMENT CONFERENCE
DESCRIPTION:The Spring Management Conference is designed to promote interaction between Owners/CEOs\, management\, and operations decision-makers\, and to serve as an ideal platform for tactical networking\, process-oriented business education\, and actionable take-home solutions.
URL:https://www.flexovitabrasives.com/event/gawda-2022-spring-management-conference/
LOCATION:JW Marriott Indianapolis\, 10 S West Street\, Indianapolis\, IN\, 46204\, United States
CATEGORIES:Tradeshow
ORGANIZER;CN="GAWDA":MAILTO:nalexis@gawda.org
END:VEVENT
END:VCALENDAR