BEGIN:VCALENDAR
VERSION:2.0
PRODID:-//Flexovit - ECPv6.13.0//NONSGML v1.0//EN
CALSCALE:GREGORIAN
METHOD:PUBLISH
X-ORIGINAL-URL:https://www.flexovitabrasives.com
X-WR-CALDESC:Events for Flexovit
REFRESH-INTERVAL;VALUE=DURATION:PT1H
X-Robots-Tag:noindex
X-PUBLISHED-TTL:PT1H
BEGIN:VTIMEZONE
TZID:UTC
BEGIN:STANDARD
TZOFFSETFROM:+0000
TZOFFSETTO:+0000
TZNAME:UTC
DTSTART:20220101T000000
END:STANDARD
END:VTIMEZONE
BEGIN:VEVENT
DTSTART;VALUE=DATE:20220411
DTEND;VALUE=DATE:20220417
DTSTAMP:20260419T132323
CREATED:20211229T210731Z
LAST-MODIFIED:20220111T202809Z
UID:13870-1649635200-1650153599@www.flexovitabrasives.com
SUMMARY:2022 ISA
DESCRIPTION:
URL:https://www.flexovitabrasives.com/event/isa-2022/
LOCATION:Marriott Marquis Houston\, 1777 Walker St\, Houston\, TX\, 77010\, United States
ORGANIZER;CN="ISA":MAILTO:info@isapartners.org
END:VEVENT
END:VCALENDAR