BEGIN:VCALENDAR
VERSION:2.0
PRODID:-//Flexovit - ECPv6.13.0//NONSGML v1.0//EN
CALSCALE:GREGORIAN
METHOD:PUBLISH
X-ORIGINAL-URL:https://www.flexovitabrasives.com
X-WR-CALDESC:Events for Flexovit
REFRESH-INTERVAL;VALUE=DURATION:PT1H
X-Robots-Tag:noindex
X-PUBLISHED-TTL:PT1H
BEGIN:VTIMEZONE
TZID:UTC
BEGIN:STANDARD
TZOFFSETFROM:+0000
TZOFFSETTO:+0000
TZNAME:UTC
DTSTART:20220101T000000
END:STANDARD
END:VTIMEZONE
BEGIN:VEVENT
DTSTART;VALUE=DATE:20220828
DTEND;VALUE=DATE:20220901
DTSTAMP:20260419T162555
CREATED:20220111T200146Z
LAST-MODIFIED:20220111T200146Z
UID:13885-1661644800-1661990399@www.flexovitabrasives.com
SUMMARY:2022 AREMA Annual Conference & Expo
DESCRIPTION:
URL:https://www.flexovitabrasives.com/event/2022-arema-annual-conference-expo/
LOCATION:Colorado Convention Center\, 700 14th Street\, Denver\, CO\, 80202\, United States
ORGANIZER;CN="AREMA/REMSA":MAILTO:info@arema.org
END:VEVENT
END:VCALENDAR