BEGIN:VCALENDAR
VERSION:2.0
PRODID:-//Flexovit - ECPv6.13.0//NONSGML v1.0//EN
CALSCALE:GREGORIAN
METHOD:PUBLISH
X-WR-CALNAME:Flexovit
X-ORIGINAL-URL:https://www.flexovitabrasives.com
X-WR-CALDESC:Events for Flexovit
REFRESH-INTERVAL;VALUE=DURATION:PT1H
X-Robots-Tag:noindex
X-PUBLISHED-TTL:PT1H
BEGIN:VTIMEZONE
TZID:UTC
BEGIN:STANDARD
TZOFFSETFROM:+0000
TZOFFSETTO:+0000
TZNAME:UTC
DTSTART:20220101T000000
END:STANDARD
END:VTIMEZONE
BEGIN:VEVENT
DTSTART;VALUE=DATE:20221005
DTEND;VALUE=DATE:20221009
DTSTAMP:20260423T064422
CREATED:20220111T200614Z
LAST-MODIFIED:20220111T200614Z
UID:13893-1664928000-1665273599@www.flexovitabrasives.com
SUMMARY:2022 GAWDA Annual Convention
DESCRIPTION:
URL:https://www.flexovitabrasives.com/event/gawda-2022-annual-convention-2/
LOCATION:marriott Marquis San Diego Marina\, 333 West Harbor Drive\, San Diego\, CA\, 92101
END:VEVENT
BEGIN:VEVENT
DTSTART;VALUE=DATE:20221030
DTEND;VALUE=DATE:20221102
DTSTAMP:20260423T064422
CREATED:20220111T201654Z
LAST-MODIFIED:20220111T201654Z
UID:13901-1667088000-1667347199@www.flexovitabrasives.com
SUMMARY:2022 STAFDA
DESCRIPTION:
URL:https://www.flexovitabrasives.com/event/2022-stafda/
LOCATION:San Diego Convention Center\, 111 W Harbor Drive\, San Diego\, CA\, 92101\, United States
ORGANIZER;CN="STAFDA":MAILTO:info@stafda.org
END:VEVENT
END:VCALENDAR